BEGIN:VCALENDAR
VERSION:2.0
PRODID:-//wp-events-plugin.com//7.2.3.1//EN
TZID:Europe/Rome
X-WR-TIMEZONE:Europe/Rome
BEGIN:VEVENT
UID:0-1365@confservizilombardia.it
DTSTART;TZID=Europe/Rome:20260421T000000
DTEND;TZID=Europe/Rome:20260510T000000
DTSTAMP:20260422T080520Z
URL:https://www.confservizilombardia.it/eventi/lario-reti-holding-e-alla-r
 icerca-di-n-1-addetto-attivazioni-disattivazioni/
SUMMARY:Lario Reti Holding è alla ricerca di n. 1 Addetto Attivazioni /Dis
 attivazioni
DESCRIPTION:La nostra associata Lario Reti Holding S.p.A.\, gestore del ser
 vizio idrico integrato della Provincia di Lecco e\, al fine di garantire u
 n adeguato turnover\, ricerca un Addetto Servizi all’Utenza-Attivazioni 
 / Disattivazioni.\n\nCONSULTA IL BANDO\n\n&nbsp\;
ATTACH;FMTTYPE=image/jpeg:https://www.confservizilombardia.it/wp-content/u
 ploads/sites/2/2022/12/selezione-personale-1024x576-1.png
CATEGORIES:Bandi e Gare
END:VEVENT
BEGIN:VTIMEZONE
TZID:Europe/Rome
X-LIC-LOCATION:Europe/Rome
BEGIN:DAYLIGHT
DTSTART:20260329T030000
TZOFFSETFROM:+0100
TZOFFSETTO:+0200
TZNAME:CEST
END:DAYLIGHT
END:VTIMEZONE
END:VCALENDAR