BEGIN:VCALENDAR
VERSION:2.0
PRODID:-//wp-events-plugin.com//7.2.3.1//EN
TZID:Europe/Rome
X-WR-TIMEZONE:Europe/Rome
BEGIN:VEVENT
UID:0-1363@confservizilombardia.it
DTSTART;TZID=Europe/Rome:20260421T000000
DTEND;TZID=Europe/Rome:20260731T000000
DTSTAMP:20260421T125318Z
URL:https://www.confservizilombardia.it/eventi/fnma-assume-autisti-costi-p
 atente-a-carico-azienda-e-premio-di-3-000-euro/
SUMMARY:FNMA assume autisti. Costi patente a carico azienda e premio di 3.0
 00 euro
DESCRIPTION:Sono aperte le selezioni per la nuova edizione dell’Academy d
 i FNM Autoservizi\, una proposta per nuovi autisti rivolta a persone con e
 tà minima di 21 anni che prevede un’assunzione a tempo determinato part
  time per tutta la durata del periodo di formazione finalizzato al consegu
 imento della patente D e CQC\, con costi totalmente a carico dell’aziend
 a\, la successiva trasformazione a tempo indeterminato full time e un prem
 io di ingresso di 3.000 euro. I nuovi autisti che completeranno il percors
 o dell’Academy – che vedrà il suo avvio entro settembre - saranno ins
 eriti in servizio sulle linee di FNMA nelle province di Como e Varese.\n\n
 IL PERCORSO FORMATIVO – Il percorso formativo ideato da FNMA\, che si sv
 olgerà presso le sedi di Saronno e Tradate\, prevede una iniziale assunzi
 one a tempo determinato con contratto part time come Operatore di Esercizi
 o con il parametro 140 del contratto CCNL Autoferrotranvieri per conseguir
 e la patente D e CQC con tutti i costi sostenuti dall’azienda. La retrib
 uzione prevista è di circa 800 euro mensili. Al termine di questo periodo
 \, a coloro che avranno superato positivamente gli esami e ottenuto l’id
 oneità verrà proposta l’assunzione a tempo indeterminato. Al nuovo ass
 unto verrà richiesto di sottoscrivere l’impegno di restare in servizio 
 presso FNMA per almeno tre anni e sarà riconosciuto inoltre un premio di 
 ingresso di 3.000 euro che sarà corrisposto in tre diverse tranche: 1.000
  euro all’assunzione dopo il conseguimento della patente\, 1.000 euro al
  18mo mese successivo all’assunzione\, l’ultima tranche di 1.000 euro 
 al 36mo mese dopo l’assunzione. Un significativo pacchetto welfare che c
 omprende ticket restaurant\, servizi per la salute\, l’educazione dei fi
 gli\, la formazione e il tempo libero affianca e completa la retribuzione 
 per i nuovi autisti.\n\nREQUISITI - La selezione aperta da FNMA è rivolta
  a tutte le persone con 21 anni compiuti\, dotate di diploma di scuola sec
 ondaria di primo grado\, patente B\, idoneità fisica e psico-attitudinale
  alla mansione\, casellario giudiziale senza provvedimenti e assenza di ca
 richi pendenti. Si richiedono inoltre la disponibilità a lavorare su turn
 i\, passione per la guida e una buona predisposizione alle relazioni inter
 personali.\n\nÈ possibile candidarsi alla selezione compilando il form de
 ll’annuncio pubblicato online: CLICCA QUI\n\n&nbsp\;\n\n&nbsp\;
ATTACH;FMTTYPE=image/jpeg:https://www.confservizilombardia.it/wp-content/u
 ploads/sites/2/2026/04/FNMA-scaled.jpg
CATEGORIES:Bandi e Gare
END:VEVENT
BEGIN:VTIMEZONE
TZID:Europe/Rome
X-LIC-LOCATION:Europe/Rome
BEGIN:DAYLIGHT
DTSTART:20260329T030000
TZOFFSETFROM:+0100
TZOFFSETTO:+0200
TZNAME:CEST
END:DAYLIGHT
END:VTIMEZONE
END:VCALENDAR