BEGIN:VCALENDAR
VERSION:2.0
PRODID:-//wp-events-plugin.com//7.2.3.1//EN
TZID:Europe/Rome
X-WR-TIMEZONE:Europe/Rome
BEGIN:VEVENT
UID:0-1361@confservizilombardia.it
DTSTART;TZID=Europe/Rome:20260521T093000
DTEND;TZID=Europe/Rome:20260521T133000
DTSTAMP:20260420T095047Z
URL:https://www.confservizilombardia.it/eventi/ai-per-giornalisti-e-comuni
 catori-delle-utility/
SUMMARY:AI per giornalisti e comunicatori delle utility
DESCRIPTION:Confservizi Lombardia organizza un ciclo di corsi per giornalis
 ti comunicatori delle utility
ATTACH;FMTTYPE=image/jpeg:https://www.confservizilombardia.it/wp-content/u
 ploads/sites/2/2026/04/Frontalino-1.2026-Giornalisti-1.png
CATEGORIES:Corsi
LOCATION:Confservizi CISPEL Lombardia\, Strada 4 – Palazzo Q7\, Rozzano 
 – MI\, Italia
X-APPLE-STRUCTURED-LOCATION;VALUE=URI;X-ADDRESS=Strada 4 – Palazzo Q7\, R
 ozzano – MI\, Italia;X-APPLE-RADIUS=100;X-TITLE=Confservizi CISPEL Lomba
 rdia:geo:0,0
END:VEVENT
BEGIN:VTIMEZONE
TZID:Europe/Rome
X-LIC-LOCATION:Europe/Rome
BEGIN:DAYLIGHT
DTSTART:20260329T030000
TZOFFSETFROM:+0100
TZOFFSETTO:+0200
TZNAME:CEST
END:DAYLIGHT
END:VTIMEZONE
END:VCALENDAR